BEGIN:VCALENDAR
VERSION:2.0
PRODID:-//Shrewsbury Garden Club - ECPv6.15.20//NONSGML v1.0//EN
CALSCALE:GREGORIAN
METHOD:PUBLISH
X-WR-CALNAME:Shrewsbury Garden Club
X-ORIGINAL-URL:https://shrewsburygardenclub.org
X-WR-CALDESC:Events for Shrewsbury Garden Club
REFRESH-INTERVAL;VALUE=DURATION:PT1H
X-Robots-Tag:noindex
X-PUBLISHED-TTL:PT1H
BEGIN:VTIMEZONE
TZID:America/New_York
BEGIN:DAYLIGHT
TZOFFSETFROM:-0500
TZOFFSETTO:-0400
TZNAME:EDT
DTSTART:20250309T070000
END:DAYLIGHT
BEGIN:STANDARD
TZOFFSETFROM:-0400
TZOFFSETTO:-0500
TZNAME:EST
DTSTART:20251102T060000
END:STANDARD
BEGIN:DAYLIGHT
TZOFFSETFROM:-0500
TZOFFSETTO:-0400
TZNAME:EDT
DTSTART:20260308T070000
END:DAYLIGHT
BEGIN:STANDARD
TZOFFSETFROM:-0400
TZOFFSETTO:-0500
TZNAME:EST
DTSTART:20261101T060000
END:STANDARD
BEGIN:DAYLIGHT
TZOFFSETFROM:-0500
TZOFFSETTO:-0400
TZNAME:EDT
DTSTART:20270314T070000
END:DAYLIGHT
BEGIN:STANDARD
TZOFFSETFROM:-0400
TZOFFSETTO:-0500
TZNAME:EST
DTSTART:20271107T060000
END:STANDARD
END:VTIMEZONE
BEGIN:VEVENT
DTSTART;TZID=America/New_York:20260609T100000
DTEND;TZID=America/New_York:20260609T100000
DTSTAMP:20260424T075540
CREATED:20250820T002636Z
LAST-MODIFIED:20260327T184434Z
UID:6146-1780999200-1780999200@shrewsburygardenclub.org
SUMMARY:Annual Membership Meeting and Luncheon
DESCRIPTION:  \nRain date June 10th.
URL:https://shrewsburygardenclub.org/event/annual-membership-meeting-and-luncheon-2/
LOCATION:Wayside inn\, Longfellow's Wayside Inn\, 72 Wayside Inn Rd\,\, Sudbury\, MA\, 01776\, United States
CATEGORIES:Members Only Meetings
ATTACH;FMTTYPE=image/jpeg:https://shrewsburygardenclub.org/wp-content/uploads/2024/06/annualmeeting.jpeg
ORGANIZER;CN="Shrewsbury Garden Club":MAILTO:gardenclubshrewsbury@gmail.com
END:VEVENT
END:VCALENDAR